BEGIN:VCALENDAR
VERSION:2.0
PRODID:icalendar-ruby
CALSCALE:GREGORIAN
BEGIN:VEVENT
DTSTAMP:20260421T112913Z
UID:faab1c3b-bab1-4f67-a7ff-016a56178b67
DTSTART;VALUE=DATE:20191010
DESCRIPTION:Property ID# 461784\, Locatoin: 30 Bay Road\, Kilbirnie\, Time:
  12:00PM
SUMMARY:Auction for 
END:VEVENT
END:VCALENDAR
