BEGIN:VCALENDAR
VERSION:2.0
PRODID:icalendar-ruby
CALSCALE:GREGORIAN
BEGIN:VEVENT
DTSTAMP:20260420T071916Z
UID:86ec9085-c3c2-4b39-b4de-f68fe5274fdc
DTSTART;VALUE=DATE:20191024
DESCRIPTION:Property ID# 463434\, Locatoin: Lowe & Co Realty\, 8 Kent Terra
 ce\, Wellington\, Time: 2:00PM
SUMMARY:Auction for 
END:VEVENT
END:VCALENDAR
