BEGIN:VCALENDAR
VERSION:2.0
PRODID:icalendar-ruby
CALSCALE:GREGORIAN
BEGIN:VEVENT
DTSTAMP:20260425T110506Z
UID:4c0fd192-a68e-476c-833b-4eb52131c36f
DTSTART;VALUE=DATE:20191126
DESCRIPTION:Property ID# 466412\, Locatoin: 43 Maclean Street Paraparaumu B
 each\, Time: 2:00PM
SUMMARY:Auction for 
END:VEVENT
END:VCALENDAR
