BEGIN:VCALENDAR
VERSION:2.0
PRODID:icalendar-ruby
CALSCALE:GREGORIAN
BEGIN:VEVENT
DTSTAMP:20260423T115415Z
UID:17b5a0ee-2da9-495f-b2db-44e6679f890b
DTSTART;VALUE=DATE:20191218
DESCRIPTION:Property ID# 468775\, Locatoin: 21 Ganges Road\, Khandallah\, T
 ime: 12:00PM
SUMMARY:Auction for 
END:VEVENT
END:VCALENDAR
