BEGIN:VCALENDAR
VERSION:2.0
PRODID:icalendar-ruby
CALSCALE:GREGORIAN
BEGIN:VEVENT
DTSTAMP:20260423T000326Z
UID:a497b641-0abd-495f-9593-6e84b837dfe7
DTSTART;VALUE=DATE:20200612
DESCRIPTION:Property ID# 481092\, Locatoin: Harcourts Khandallah - 6 Dekka 
 Street\, Khandallah (if not sold prior)\, Time: 1:00PM
SUMMARY:Auction for 
END:VEVENT
END:VCALENDAR
