BEGIN:VCALENDAR
VERSION:2.0
PRODID:icalendar-ruby
CALSCALE:GREGORIAN
BEGIN:VEVENT
DTSTAMP:20260421T170110Z
UID:6f7556d0-b9e8-49ee-9170-a00a5e68d79c
DTSTART;VALUE=DATE:20200716
DESCRIPTION:Property ID# 483924\, Locatoin: Ray White Wellington City Level
  1 77 Thorndon Quay Wellington\, Time: 12:00PM
SUMMARY:Auction for 
END:VEVENT
END:VCALENDAR
