BEGIN:VCALENDAR
VERSION:2.0
PRODID:icalendar-ruby
CALSCALE:GREGORIAN
BEGIN:VEVENT
DTSTAMP:20260423T000516Z
UID:49d362b9-9d26-4d9e-bc3c-e5b0f306269c
DTSTART;VALUE=DATE:20200918
DESCRIPTION:Property ID# 488345\, Locatoin: (No Prior Sale) Harcourts Aucti
 on Rooms\, 54-56 Cambridge Terrace\, Wellington\, Time: 12:00PM
SUMMARY:Auction for 
END:VEVENT
END:VCALENDAR
