BEGIN:VCALENDAR
VERSION:2.0
PRODID:icalendar-ruby
CALSCALE:GREGORIAN
BEGIN:VEVENT
DTSTAMP:20260423T154114Z
UID:c27a7736-e44d-42b3-9e97-54352832b845
DTSTART;VALUE=DATE:20201001
DESCRIPTION:Property ID# 490198\, Locatoin: 136 Karori Road\, Karori\, Well
 ington 6012\, Time: 12:00PM
SUMMARY:Auction for 
END:VEVENT
END:VCALENDAR
