BEGIN:VCALENDAR
VERSION:2.0
PRODID:icalendar-ruby
CALSCALE:GREGORIAN
BEGIN:VEVENT
DTSTAMP:20260421T171617Z
UID:c305b67e-636e-4c43-b0b3-36c4bcfd8f1f
DTSTART;VALUE=DATE:20201214
DESCRIPTION:Property ID# 496703\, Locatoin: Ray White Wellington City Level
  1 77 Thorndon Quay Wellington\, Time: 12:00PM
SUMMARY:Auction for 
END:VEVENT
END:VCALENDAR
