BEGIN:VCALENDAR
VERSION:2.0
PRODID:icalendar-ruby
CALSCALE:GREGORIAN
BEGIN:VEVENT
DTSTAMP:20260422T211531Z
UID:cb0d1b5e-f4dc-41fe-a24f-69c8660dd66f
DTSTART;VALUE=DATE:20210312
DESCRIPTION:Property ID# 502023\, Locatoin: (Not Selling Prior) Harcourts A
 uction Rooms\, 54-56 Cambridge Terrace\, Wellington\, Time: 12:00PM
SUMMARY:Auction for 
END:VEVENT
END:VCALENDAR
