BEGIN:VCALENDAR
VERSION:2.0
PRODID:icalendar-ruby
CALSCALE:GREGORIAN
BEGIN:VEVENT
DTSTAMP:20260423T060455Z
UID:f234a8d0-4c35-40d5-a4b0-cf5f58cdb4c8
DTSTART;VALUE=DATE:20210408
DESCRIPTION:Property ID# 505629\, Locatoin: 21 Ganges Road\, Khandallah\, T
 ime: 12:00PM
SUMMARY:Auction for 
END:VEVENT
END:VCALENDAR
