BEGIN:VCALENDAR
VERSION:2.0
PRODID:icalendar-ruby
CALSCALE:GREGORIAN
BEGIN:VEVENT
DTSTAMP:20260422T211028Z
UID:af240a1b-38a1-4711-9600-940a088d4427
DTSTART;VALUE=DATE:20210618
DESCRIPTION:Property ID# 511230\, Locatoin: Friday\, 12noon. Harcourts Auct
 ion Rooms 54-56 Cambridge Terrace. Te Aro\, Time: 12:00PM
SUMMARY:Auction for 
END:VEVENT
END:VCALENDAR
