BEGIN:VCALENDAR
VERSION:2.0
PRODID:icalendar-ruby
CALSCALE:GREGORIAN
BEGIN:VEVENT
DTSTAMP:20260425T111512Z
UID:5e1779c6-910c-4027-82d7-66f2073049fc
DTSTART;VALUE=DATE:20210803
DESCRIPTION:Property ID# 514368\, Locatoin: 9-11 Kings Cres\, Lower Hutt\, 
 Time: 11:00AM
SUMMARY:Auction for 
END:VEVENT
END:VCALENDAR
