BEGIN:VCALENDAR
VERSION:2.0
PRODID:icalendar-ruby
CALSCALE:GREGORIAN
BEGIN:VEVENT
DTSTAMP:20260424T100217Z
UID:25d34b9b-ee28-4a63-b772-845b5d22caac
DTSTART;VALUE=DATE:20210921
DESCRIPTION:Property ID# 516676\, Locatoin: Harcourts Auction Rooms Welling
 ton\, Time: 12:00PM
SUMMARY:Auction for 
END:VEVENT
END:VCALENDAR
