BEGIN:VCALENDAR
VERSION:2.0
PRODID:icalendar-ruby
CALSCALE:GREGORIAN
BEGIN:VEVENT
DTSTAMP:20260422T210903Z
UID:cecc7784-5482-4868-9876-e9d7bf2271ee
DTSTART;VALUE=DATE:20211001
DESCRIPTION:Property ID# 517025\, Locatoin: Friday\, 12noon. Harcourts Auct
 ion Rooms 54-56 Cambridge Terrace. Te Aro\, Time: 12:00PM
SUMMARY:Auction for 
END:VEVENT
END:VCALENDAR
