BEGIN:VCALENDAR
VERSION:2.0
PRODID:icalendar-ruby
CALSCALE:GREGORIAN
BEGIN:VEVENT
DTSTAMP:20260423T055934Z
UID:e9feead8-d7cc-4684-81f7-9c6a22eb2197
DTSTART;VALUE=DATE:20220203
DESCRIPTION:Property ID# 526427\, Locatoin: 21 Ganges Road\, Khandallah\, T
 ime: 1:00PM
SUMMARY:Auction for 
END:VEVENT
END:VCALENDAR
