BEGIN:VCALENDAR
VERSION:2.0
PRODID:icalendar-ruby
CALSCALE:GREGORIAN
BEGIN:VEVENT
DTSTAMP:20260422T210101Z
UID:cef7604a-ca17-4e86-8aa3-e779d0b23901
DTSTART;VALUE=DATE:20220304
DESCRIPTION:Property ID# 528084\, Locatoin: Friday 12 Noon\, Harcourts Auct
 ion Rooms 54-56 Cambridge Terrace. Te Aro (Unless Sold Prior)\, Time: 12:0
 0PM
SUMMARY:Auction for 
END:VEVENT
END:VCALENDAR
