BEGIN:VCALENDAR
VERSION:2.0
PRODID:icalendar-ruby
CALSCALE:GREGORIAN
BEGIN:VEVENT
DTSTAMP:20260425T120532Z
UID:efbf01f4-ff86-4b6b-9626-35a2eec5d327
DTSTART;VALUE=DATE:20220811
DESCRIPTION:Property ID# 540934\, Locatoin: Level 1\, 77 Thorndon Quay\, We
 llington\, Time: 12:00PM
SUMMARY:Auction for 
END:VEVENT
END:VCALENDAR
