BEGIN:VCALENDAR
VERSION:2.0
PRODID:icalendar-ruby
CALSCALE:GREGORIAN
BEGIN:VEVENT
DTSTAMP:20260425T120000Z
UID:a50361fd-1dd3-4eb4-938d-3103e5ddede1
DTSTART;VALUE=DATE:20220929
DESCRIPTION:Property ID# 543100\, Locatoin: Level 1\, 77 Thorndon Quay\, We
 llington\, Time: 12:00PM
SUMMARY:Auction for 
END:VEVENT
END:VCALENDAR
