BEGIN:VCALENDAR
VERSION:2.0
PRODID:icalendar-ruby
CALSCALE:GREGORIAN
BEGIN:VEVENT
DTSTAMP:20260425T121208Z
UID:36ecb928-e97a-4854-960d-05c2c145f169
DTSTART;VALUE=DATE:20221013
DESCRIPTION:Property ID# 544095\, Time: 12:00PM
SUMMARY:Auction for 
END:VEVENT
END:VCALENDAR
