BEGIN:VCALENDAR
VERSION:2.0
PRODID:icalendar-ruby
CALSCALE:GREGORIAN
BEGIN:VEVENT
DTSTAMP:20260421T105414Z
UID:6f912ca9-f1ab-411b-8616-e84dd4bd8328
DTSTART;VALUE=DATE:20221117
DESCRIPTION:Property ID# 546723\, Locatoin: 1/77 Thorndon Quay\, Time: 1:00
 PM
SUMMARY:Auction for 
END:VEVENT
END:VCALENDAR
