BEGIN:VCALENDAR
VERSION:2.0
PRODID:icalendar-ruby
CALSCALE:GREGORIAN
BEGIN:VEVENT
DTSTAMP:20260421T133907Z
UID:4a41b8b9-b498-4efc-a6c2-3f223cfee24a
DTSTART;VALUE=DATE:20230216
DESCRIPTION:Property ID# 551332\, Locatoin: L1/77 Thorndon Quay\, Time: 2:0
 0PM
SUMMARY:Auction for 
END:VEVENT
END:VCALENDAR
