BEGIN:VCALENDAR
VERSION:2.0
PRODID:icalendar-ruby
CALSCALE:GREGORIAN
BEGIN:VEVENT
DTSTAMP:20260421T134106Z
UID:b84833fc-b9aa-451c-9d46-ae0a8f72f424
DTSTART;VALUE=DATE:20230302
DESCRIPTION:Property ID# 552266\, Time: 2:00PM
SUMMARY:Auction for 
END:VEVENT
END:VCALENDAR
