BEGIN:VCALENDAR
VERSION:2.0
PRODID:icalendar-ruby
CALSCALE:GREGORIAN
BEGIN:VEVENT
DTSTAMP:20260421T170110Z
UID:6003c1a4-e22c-4fb6-bf95-be59110a7c02
DTSTART;VALUE=DATE:20230414
DESCRIPTION:Property ID# 555061\, Locatoin: Ray White Wellington City Level
  1 77 Thorndon Quay Wellington\, Time: 12:00PM
SUMMARY:Auction for 
END:VEVENT
END:VCALENDAR
