BEGIN:VCALENDAR
VERSION:2.0
PRODID:icalendar-ruby
CALSCALE:GREGORIAN
BEGIN:VEVENT
DTSTAMP:20260425T121326Z
UID:3cd9a377-98db-4c8b-a6e9-fc68d493a94c
DTSTART;VALUE=DATE:20230928
DESCRIPTION:Property ID# 561686\, Time: 2:00PM
SUMMARY:Auction for 
END:VEVENT
END:VCALENDAR
