BEGIN:VCALENDAR
VERSION:2.0
PRODID:icalendar-ruby
CALSCALE:GREGORIAN
BEGIN:VEVENT
DTSTAMP:20260425T120051Z
UID:7d86a8df-2bc5-494d-b690-4905bc1fb6bb
DTSTART;VALUE=DATE:20231026
DESCRIPTION:Property ID# 563998\, Locatoin: Ray White Khandallah\, 21 Gange
 s Road\, Time: 12:00PM
SUMMARY:Auction for 
END:VEVENT
END:VCALENDAR
