BEGIN:VCALENDAR
VERSION:2.0
PRODID:icalendar-ruby
CALSCALE:GREGORIAN
BEGIN:VEVENT
DTSTAMP:20260421T194403Z
UID:b60cb9e7-417a-4d37-8af4-dded02c2b491
DTSTART;VALUE=DATE:20231122
DESCRIPTION:Property ID# 565170\, Locatoin: Level 1\, 77 Thorndon Quay\, We
 llington\, Time: 12:00PM
SUMMARY:Auction for 
END:VEVENT
END:VCALENDAR
