BEGIN:VCALENDAR
VERSION:2.0
PRODID:icalendar-ruby
CALSCALE:GREGORIAN
BEGIN:VEVENT
DTSTAMP:20260425T115934Z
UID:2c4ef4bb-cfd2-40f9-9a1b-4513357c963d
DTSTART;VALUE=DATE:20240221
DESCRIPTION:Property ID# 568954\, Locatoin: Level 1\, 77 Thorndon Quay\, We
 llington\, Time: 1:00PM
SUMMARY:Auction for 
END:VEVENT
END:VCALENDAR
