BEGIN:VCALENDAR
VERSION:2.0
PRODID:icalendar-ruby
CALSCALE:GREGORIAN
BEGIN:VEVENT
DTSTAMP:20260425T231403Z
UID:e9900fa9-cdcb-4cbb-bde9-275495b2e502
DTSTART;VALUE=DATE:20240410
DESCRIPTION:Property ID# 572421\, Locatoin: Harcourts Tawa Realty Ltd\, 215
  Main Road\, Tawa\, Time: 4:00PM
SUMMARY:Auction for 
END:VEVENT
END:VCALENDAR
