BEGIN:VCALENDAR
VERSION:2.0
PRODID:icalendar-ruby
CALSCALE:GREGORIAN
BEGIN:VEVENT
DTSTAMP:20260421T111711Z
UID:b6e83c08-8a08-4d72-9760-257ede70fe64
DTSTART;VALUE=DATE:20240606
DESCRIPTION:Property ID# 576346\, Time: 12:00PM
SUMMARY:Auction for 
END:VEVENT
END:VCALENDAR
