BEGIN:VCALENDAR
VERSION:2.0
PRODID:icalendar-ruby
CALSCALE:GREGORIAN
BEGIN:VEVENT
DTSTAMP:20260425T231109Z
UID:2a28b12e-a1e4-467f-8d36-8f5d7baea0cb
DTSTART;VALUE=DATE:20241016
DESCRIPTION:Property ID# 581166\, Locatoin: Harcourts Tawa Realty Ltd\, 215
  Main Road\, Tawa\, Time: 4:00PM
SUMMARY:Auction for 
END:VEVENT
END:VCALENDAR
