BEGIN:VCALENDAR
VERSION:2.0
PRODID:icalendar-ruby
CALSCALE:GREGORIAN
BEGIN:VEVENT
DTSTAMP:20260425T230807Z
UID:0beac512-17c7-4c2a-af26-6e39b55aee6f
DTSTART;VALUE=DATE:20241030
DESCRIPTION:Property ID# 581908\, Locatoin: Harcourts Tawa Realty Ltd\, 215
  Main Road\, Tawa\, Time: 4:00PM
SUMMARY:Auction for 
END:VEVENT
END:VCALENDAR
