BEGIN:VCALENDAR
VERSION:2.0
PRODID:icalendar-ruby
CALSCALE:GREGORIAN
BEGIN:VEVENT
DTSTAMP:20260421T140424Z
UID:6bded85e-69a8-4a05-ba80-8c163ad22319
DTSTART;VALUE=DATE:20250320
DESCRIPTION:Property ID# 589378\, Locatoin: Level 1\, 77 Thorndon Quay\, WE
 LLINGTON\, Time: 2:00PM
SUMMARY:Auction for 
END:VEVENT
END:VCALENDAR
