BEGIN:VCALENDAR
VERSION:2.0
PRODID:icalendar-ruby
CALSCALE:GREGORIAN
BEGIN:VEVENT
DTSTAMP:20260419T121055Z
UID:90a2f3f3-102f-4039-9fdb-8ad4002dd96d
DTSTART;VALUE=DATE:20250403
DESCRIPTION:Property ID# 589761\, Locatoin: 8 Kent Terrace\, Wellington\, T
 ime: 12:00PM
SUMMARY:Auction for 
END:VEVENT
END:VCALENDAR
