BEGIN:VCALENDAR
VERSION:2.0
PRODID:icalendar-ruby
CALSCALE:GREGORIAN
BEGIN:VEVENT
DTSTAMP:20260423T115446Z
UID:557726a4-9797-49da-bea8-74af7c124b70
DTSTART;VALUE=DATE:20250729
DESCRIPTION:Property ID# 594722\, Time: 2:00PM
SUMMARY:Auction for 208/15 Holland Street
END:VEVENT
END:VCALENDAR
