BEGIN:VCALENDAR
VERSION:2.0
PRODID:icalendar-ruby
CALSCALE:GREGORIAN
BEGIN:VEVENT
DTSTAMP:20260425T230206Z
UID:cc522d54-aba7-4163-ab2c-af4c1db7ffa1
DTSTART;VALUE=DATE:20251105
DESCRIPTION:Property ID# 598592\, Locatoin: Harcourts Tawa Realty Ltd\, 215
  Main Road\, Tawa\, Time: 3:00PM
SUMMARY:Auction for 
END:VEVENT
END:VCALENDAR
