BEGIN:VCALENDAR
VERSION:2.0
PRODID:icalendar-ruby
CALSCALE:GREGORIAN
BEGIN:VEVENT
DTSTAMP:20260422T105401Z
UID:6fbc075e-184f-460a-96cb-a612031ccabd
DTSTART;VALUE=DATE:20251106
DESCRIPTION:Property ID# 598659\, Locatoin: Ray White Rangiora\, Level 1\, 
 188 High Street\, Rangiora\, Time: 4:00PM
SUMMARY:Auction for 
END:VEVENT
END:VCALENDAR
