BEGIN:VCALENDAR
VERSION:2.0
PRODID:icalendar-ruby
CALSCALE:GREGORIAN
BEGIN:VEVENT
DTSTAMP:20260421T105904Z
UID:91210f49-3f65-484d-9c16-abfe3834bcc7
DTSTART;VALUE=DATE:20251126
DESCRIPTION:Property ID# 599845\, Time: 1:00PM
SUMMARY:Auction for 
END:VEVENT
END:VCALENDAR
