BEGIN:VCALENDAR
VERSION:2.0
PRODID:icalendar-ruby
CALSCALE:GREGORIAN
BEGIN:VEVENT
DTSTAMP:20260422T093908Z
UID:51d84f86-b8a4-4e49-a875-072f26fbaed3
DTSTART;VALUE=DATE:20251127
DESCRIPTION:Property ID# 599920\, Locatoin: 8 Kent Terrace\, Wellington (wi
 ll not be sold prior)\, Time: 12:00PM
SUMMARY:Auction for 
END:VEVENT
END:VCALENDAR
