BEGIN:VCALENDAR
VERSION:2.0
PRODID:icalendar-ruby
CALSCALE:GREGORIAN
BEGIN:VEVENT
DTSTAMP:20260423T055232Z
UID:a9b88edd-30d6-40ff-b5a2-7aad531949d2
DTSTART;VALUE=DATE:20251203
DESCRIPTION:Property ID# 600448\, Locatoin: 21 Ganges Road\, Khandallah\, T
 ime: 12:00PM
SUMMARY:Auction for 
END:VEVENT
END:VCALENDAR
