BEGIN:VCALENDAR
VERSION:2.0
PRODID:icalendar-ruby
CALSCALE:GREGORIAN
BEGIN:VEVENT
DTSTAMP:20260425T230822Z
UID:20fe00ec-c6ee-4872-b171-35eb0ae8a103
DTSTART;VALUE=DATE:20260304
DESCRIPTION:Property ID# 603286\, Locatoin: Harcourts Tawa Realty Ltd\, 215
  Main Road\, Tawa\, Time: 12:00PM
SUMMARY:Auction for 
END:VEVENT
END:VCALENDAR
