BEGIN:VCALENDAR
VERSION:2.0
PRODID:icalendar-ruby
CALSCALE:GREGORIAN
BEGIN:VEVENT
DTSTAMP:20260421T141336Z
UID:32aa89c4-b4b2-409e-8f1c-7da90b399bd5
DTSTART;VALUE=DATE:20260226
DESCRIPTION:Property ID# 603473\, Locatoin: Level 1\, 77 Thorndon Quay\, WE
 LLINGTON\, Time: 2:00PM
SUMMARY:Auction for 
END:VEVENT
END:VCALENDAR
