BEGIN:VCALENDAR
VERSION:2.0
PRODID:icalendar-ruby
CALSCALE:GREGORIAN
BEGIN:VEVENT
DTSTAMP:20260421T131424Z
UID:0b7fe3c6-beb7-4903-b531-c0761ca0f7d8
DTSTART;VALUE=DATE:20260513
DESCRIPTION:Property ID# 606195\, Locatoin: Clark & Co Realty\, 7 Mana Espl
 anade Paremata.\, Time: 12:00PM
SUMMARY:Auction for 2/14 Jillett Street
END:VEVENT
END:VCALENDAR
