BEGIN:VCALENDAR
VERSION:2.0
PRODID:icalendar-ruby
CALSCALE:GREGORIAN
BEGIN:VEVENT
DTSTAMP:20260421T132401Z
UID:9b84579f-9cb0-4a5c-bcb5-030683685fda
DTSTART;VALUE=DATE:20260513
DESCRIPTION:Property ID# 606486\, Locatoin: Harcourts Paremata at 1pm \, Ti
 me: 1:00PM
SUMMARY:Auction for 4 Botany Lane\, Whitby
END:VEVENT
END:VCALENDAR
