BEGIN:VCALENDAR
VERSION:2.0
PRODID:icalendar-ruby
CALSCALE:GREGORIAN
BEGIN:VEVENT
DTSTAMP:20260423T134603Z
UID:68e6df49-1fbf-44de-a113-4df53a8c536e
DTSTART;VALUE=DATE:20260507
DESCRIPTION:Property ID# 606961\, Locatoin: Level 1\, 77 Thorndon Quay\, Th
 orndon\, Time: 2:00PM
SUMMARY:Auction for 2A Downing Street
END:VEVENT
END:VCALENDAR
