BEGIN:VCALENDAR
VERSION:2.0
PRODID:icalendar-ruby
CALSCALE:GREGORIAN
BEGIN:VEVENT
DTSTAMP:20260421T131916Z
UID:ab040b5c-8a4a-4585-9e26-13e71d5e53d9
DTSTART;TZID=Pacific/Auckland:20260422T171500
DTEND;TZID=Pacific/Auckland:20260422T174500
DESCRIPTION:Property ID# 606486
SUMMARY:Openhome for 4 Botany Lane\, Whitby
END:VEVENT
END:VCALENDAR
